BEGIN:VCALENDAR
VERSION:2.0
PRODID:-//Heidefreunde.de - ECPv6.15.20//NONSGML v1.0//EN
CALSCALE:GREGORIAN
METHOD:PUBLISH
X-WR-CALNAME:Heidefreunde.de
X-ORIGINAL-URL:https://heidefreunde.de
X-WR-CALDESC:Veranstaltungen für Heidefreunde.de
REFRESH-INTERVAL;VALUE=DURATION:PT1H
X-Robots-Tag:noindex
X-PUBLISHED-TTL:PT1H
BEGIN:VTIMEZONE
TZID:Europe/Berlin
BEGIN:DAYLIGHT
TZOFFSETFROM:+0100
TZOFFSETTO:+0200
TZNAME:CEST
DTSTART:20250330T010000
END:DAYLIGHT
BEGIN:STANDARD
TZOFFSETFROM:+0200
TZOFFSETTO:+0100
TZNAME:CET
DTSTART:20251026T010000
END:STANDARD
BEGIN:DAYLIGHT
TZOFFSETFROM:+0100
TZOFFSETTO:+0200
TZNAME:CEST
DTSTART:20260329T010000
END:DAYLIGHT
BEGIN:STANDARD
TZOFFSETFROM:+0200
TZOFFSETTO:+0100
TZNAME:CET
DTSTART:20261025T010000
END:STANDARD
BEGIN:DAYLIGHT
TZOFFSETFROM:+0100
TZOFFSETTO:+0200
TZNAME:CEST
DTSTART:20270328T010000
END:DAYLIGHT
BEGIN:STANDARD
TZOFFSETFROM:+0200
TZOFFSETTO:+0100
TZNAME:CET
DTSTART:20271031T010000
END:STANDARD
END:VTIMEZONE
BEGIN:VEVENT
DTSTART;VALUE=DATE:20260612
DTEND;VALUE=DATE:20260615
DTSTAMP:20260421T204627
CREATED:20260419T174628Z
LAST-MODIFIED:20260419T175150Z
UID:4032-1781222400-1781481599@heidefreunde.de
SUMMARY:Sommerfest 2026
DESCRIPTION:Sommerfest
URL:https://heidefreunde.de/event/sommerfest-2026-2/
LOCATION:Festplatz Hameckepark\, Fritz-Reuter-Strasse 4\, Hagen\, NRW\, 58099\, Deutschland
CATEGORIES:öffentliche Veranstaltung
ORGANIZER;CN="Heidefreunde Boelerheide":MAILTO:nachrichten@heidefreunde.de
END:VEVENT
END:VCALENDAR